BEGIN:VCALENDAR
VERSION:2.0
PRODID:-//Gemeinde Föritztal - ECPv6.15.20//NONSGML v1.0//EN
CALSCALE:GREGORIAN
METHOD:PUBLISH
X-WR-CALNAME:Gemeinde Föritztal
X-ORIGINAL-URL:https://foeritztal.de
X-WR-CALDESC:Veranstaltungen für Gemeinde Föritztal
REFRESH-INTERVAL;VALUE=DURATION:PT1H
X-Robots-Tag:noindex
X-PUBLISHED-TTL:PT1H
BEGIN:VTIMEZONE
TZID:Europe/Berlin
BEGIN:DAYLIGHT
TZOFFSETFROM:+0100
TZOFFSETTO:+0200
TZNAME:CEST
DTSTART:20240331T010000
END:DAYLIGHT
BEGIN:STANDARD
TZOFFSETFROM:+0200
TZOFFSETTO:+0100
TZNAME:CET
DTSTART:20241027T010000
END:STANDARD
BEGIN:DAYLIGHT
TZOFFSETFROM:+0100
TZOFFSETTO:+0200
TZNAME:CEST
DTSTART:20250330T010000
END:DAYLIGHT
BEGIN:STANDARD
TZOFFSETFROM:+0200
TZOFFSETTO:+0100
TZNAME:CET
DTSTART:20251026T010000
END:STANDARD
BEGIN:DAYLIGHT
TZOFFSETFROM:+0100
TZOFFSETTO:+0200
TZNAME:CEST
DTSTART:20260329T010000
END:DAYLIGHT
BEGIN:STANDARD
TZOFFSETFROM:+0200
TZOFFSETTO:+0100
TZNAME:CET
DTSTART:20261025T010000
END:STANDARD
END:VTIMEZONE
BEGIN:VEVENT
DTSTART;TZID=Europe/Berlin:20251003T150000
DTEND;TZID=Europe/Berlin:20251003T233000
DTSTAMP:20260421T112918
CREATED:20250923T075805Z
LAST-MODIFIED:20250923T075819Z
UID:9527-1759503600-1759534200@foeritztal.de
SUMMARY:Kerwa Rottmar
DESCRIPTION:15:00 Uhr geführte Wanderung\n19:00 Fackelumzug durch Rottmar\nAnstich der Kerwa durch die Bürgermeisterin\n21:00 Uhr Tanzabend mit „Duo M&M“
URL:https://foeritztal.de/veranstaltung/kerwa-rottmar-2/
ATTACH;FMTTYPE=image/jpeg:https://foeritztal.de/wp-content/uploads/2025/09/151483.jpg
END:VEVENT
BEGIN:VEVENT
DTSTART;TZID=Europe/Berlin:20251004T163000
DTEND;TZID=Europe/Berlin:20251004T233000
DTSTAMP:20260421T112918
CREATED:20250923T080121Z
LAST-MODIFIED:20250923T080121Z
UID:9530-1759595400-1759620600@foeritztal.de
SUMMARY:Kerwa Rottmar
DESCRIPTION:Ständela der „Oberlinder Blasmusik“\n16:30 Uhr Foodmeile\nSchäufela mit Klöße (Vorbestellung 016097003805)\n20:00 Uhr Musik mit „Dj Robin“
URL:https://foeritztal.de/veranstaltung/kerwa-rottmar-3/
ATTACH;FMTTYPE=image/jpeg:https://foeritztal.de/wp-content/uploads/2025/09/151483.jpg
END:VEVENT
BEGIN:VEVENT
DTSTART;TZID=Europe/Berlin:20251005T150000
DTEND;TZID=Europe/Berlin:20251005T183000
DTSTAMP:20260421T112918
CREATED:20250923T080217Z
LAST-MODIFIED:20250923T080217Z
UID:9532-1759676400-1759689000@foeritztal.de
SUMMARY:Kerwa Rottmar
DESCRIPTION:15:00 Uhr Familiennachmittag
URL:https://foeritztal.de/veranstaltung/kerwa-rottmar-4/
ATTACH;FMTTYPE=image/jpeg:https://foeritztal.de/wp-content/uploads/2025/09/151483.jpg
END:VEVENT
BEGIN:VEVENT
DTSTART;TZID=Europe/Berlin:20251011T170000
DTEND;TZID=Europe/Berlin:20251011T210000
DTSTAMP:20260421T112918
CREATED:20250812T092531Z
LAST-MODIFIED:20250812T092531Z
UID:9273-1760202000-1760216400@foeritztal.de
SUMMARY:Jubiläumskonzert Sonneberger Singezentrum
DESCRIPTION:Eintritt ist frei!!!
URL:https://foeritztal.de/veranstaltung/jubilaeumskonzert-sonneberger-singezentrum/
LOCATION:Kultursaal Neuhaus-Schierschnitz\, Schierschnitzer Straße 9\, Föritztal\, 96524
ATTACH;FMTTYPE=image/jpeg:https://foeritztal.de/wp-content/uploads/2025/08/KM_C450i25081211240-scaled.jpg
END:VEVENT
BEGIN:VEVENT
DTSTART;TZID=Europe/Berlin:20251015T140000
DTEND;TZID=Europe/Berlin:20251015T170000
DTSTAMP:20260421T112918
CREATED:20250404T095149Z
LAST-MODIFIED:20250404T095149Z
UID:8824-1760536800-1760547600@foeritztal.de
SUMMARY:Seniorentreff 2025 in Judenbach
DESCRIPTION:
URL:https://foeritztal.de/veranstaltung/seniorentreff-2025-in-judenbach-6/
LOCATION:Vereinszimmer Dorfleben\, Bellershöhe 1\, Judenbach\, Thüringen\, 96524\, Deutschland
ATTACH;FMTTYPE=image/jpeg:https://foeritztal.de/wp-content/uploads/2025/04/Seniorentreff-Uebersicht-scaled.jpg
END:VEVENT
BEGIN:VEVENT
DTSTART;TZID=Europe/Berlin:20251015T140000
DTEND;TZID=Europe/Berlin:20251015T170000
DTSTAMP:20260421T112918
CREATED:20250812T094544Z
LAST-MODIFIED:20250812T094544Z
UID:9281-1760536800-1760547600@foeritztal.de
SUMMARY:Seniorentreff in Judenbach
DESCRIPTION:
URL:https://foeritztal.de/veranstaltung/seniorentreff-in-judenbach-2/
LOCATION:Vereinszimmer Dorfleben\, Bellershöhe 1\, Judenbach\, Thüringen\, 96524\, Deutschland
ATTACH;FMTTYPE=image/jpeg:https://foeritztal.de/wp-content/uploads/2025/08/Seniorentreff-Uebersicht-2-1-scaled.jpg
END:VEVENT
BEGIN:VEVENT
DTSTART;TZID=Europe/Berlin:20251025T210000
DTEND;TZID=Europe/Berlin:20251026T030000
DTSTAMP:20260421T112918
CREATED:20250902T150828Z
LAST-MODIFIED:20251014T075913Z
UID:9452-1761426000-1761447600@foeritztal.de
SUMMARY:Dorfbeats Vol. II
DESCRIPTION:Einlass ab 16 Jahre inkl. Muttizettel
URL:https://foeritztal.de/veranstaltung/dorfbeats-vol-ii/
LOCATION:Kultursaal Neuhaus-Schierschnitz\, Schierschnitzer Straße 9\, Föritztal\, 96524
ATTACH;FMTTYPE=image/jpeg:https://foeritztal.de/wp-content/uploads/2025/09/IMG-20250902-WA0002.jpg
END:VEVENT
END:VCALENDAR