BEGIN:VCALENDAR
VERSION:2.0
PRODID:-//Gemeinde Föritztal - ECPv6.15.20//NONSGML v1.0//EN
CALSCALE:GREGORIAN
METHOD:PUBLISH
X-WR-CALNAME:Gemeinde Föritztal
X-ORIGINAL-URL:https://foeritztal.de
X-WR-CALDESC:Veranstaltungen für Gemeinde Föritztal
REFRESH-INTERVAL;VALUE=DURATION:PT1H
X-Robots-Tag:noindex
X-PUBLISHED-TTL:PT1H
BEGIN:VTIMEZONE
TZID:Europe/Berlin
BEGIN:DAYLIGHT
TZOFFSETFROM:+0100
TZOFFSETTO:+0200
TZNAME:CEST
DTSTART:20230326T010000
END:DAYLIGHT
BEGIN:STANDARD
TZOFFSETFROM:+0200
TZOFFSETTO:+0100
TZNAME:CET
DTSTART:20231029T010000
END:STANDARD
BEGIN:DAYLIGHT
TZOFFSETFROM:+0100
TZOFFSETTO:+0200
TZNAME:CEST
DTSTART:20240331T010000
END:DAYLIGHT
BEGIN:STANDARD
TZOFFSETFROM:+0200
TZOFFSETTO:+0100
TZNAME:CET
DTSTART:20241027T010000
END:STANDARD
BEGIN:DAYLIGHT
TZOFFSETFROM:+0100
TZOFFSETTO:+0200
TZNAME:CEST
DTSTART:20250330T010000
END:DAYLIGHT
BEGIN:STANDARD
TZOFFSETFROM:+0200
TZOFFSETTO:+0100
TZNAME:CET
DTSTART:20251026T010000
END:STANDARD
END:VTIMEZONE
BEGIN:VEVENT
DTSTART;TZID=Europe/Berlin:20240203T143000
DTEND;TZID=Europe/Berlin:20240203T173000
DTSTAMP:20260424T114004
CREATED:20240115T072035Z
LAST-MODIFIED:20240115T072035Z
UID:6853-1706970600-1706981400@foeritztal.de
SUMMARY:Kinderfasching Föritz
DESCRIPTION:
URL:https://foeritztal.de/veranstaltung/kinderfasching-foeritz/
LOCATION:Vereinsheim Föritz
ATTACH;FMTTYPE=image/jpeg:https://foeritztal.de/wp-content/uploads/2024/01/fetenm-scaled.jpg
END:VEVENT
BEGIN:VEVENT
DTSTART;TZID=Europe/Berlin:20240203T143000
DTEND;TZID=Europe/Berlin:20240203T233000
DTSTAMP:20260424T114004
CREATED:20240123T060551Z
LAST-MODIFIED:20240123T060551Z
UID:7005-1706970600-1707003000@foeritztal.de
SUMMARY:Zeltfasching Lindenberg
DESCRIPTION:Wir laden euch ein zum Lindenberger Zeltfasching: \nKinderfasching Beginn 14:30 Uhr (Jedes Kind erhält einen Preis und einen Faschingskrapfen) Beginn für die großen Narren: 21 Uhr Musikalische Gestaltung: DJ Andre
URL:https://foeritztal.de/veranstaltung/zeltfasching-lindenberg/
LOCATION:Festzelt
ATTACH;FMTTYPE=image/jpeg:https://foeritztal.de/wp-content/uploads/2024/01/zeltfasch-scaled.jpg
END:VEVENT
BEGIN:VEVENT
DTSTART;TZID=Europe/Berlin:20240210T143000
DTEND;TZID=Europe/Berlin:20240210T173000
DTSTAMP:20260424T114004
CREATED:20240115T071848Z
LAST-MODIFIED:20240115T071848Z
UID:6850-1707575400-1707586200@foeritztal.de
SUMMARY:Kinderfasching Mupperg
DESCRIPTION:mit Spiel\, Spaß und Spannung für alle Kinder
URL:https://foeritztal.de/veranstaltung/kinderfasching-mupperg-2/
LOCATION:Saal „Roter Ochse“ Mupperg
ATTACH;FMTTYPE=image/jpeg:https://foeritztal.de/wp-content/uploads/2024/01/kifasch-mupp-scaled.jpg
END:VEVENT
BEGIN:VEVENT
DTSTART;TZID=Europe/Berlin:20240210T200000
DTEND;TZID=Europe/Berlin:20240210T233000
DTSTAMP:20260424T114004
CREATED:20240115T071600Z
LAST-MODIFIED:20240115T071600Z
UID:6847-1707595200-1707607800@foeritztal.de
SUMMARY:Sportlermaskenball Neuenbau
DESCRIPTION:mit DJ „Gute Laune“
URL:https://foeritztal.de/veranstaltung/sportlermaskenball-neuenbau/
LOCATION:Kultursaal Neuenbau\, Sattelpaßstraße 22\, Föritztal OT Neuenbau
ATTACH;FMTTYPE=image/png:https://foeritztal.de/wp-content/uploads/2024/01/sportlermask-nbau.png
END:VEVENT
BEGIN:VEVENT
DTSTART;TZID=Europe/Berlin:20240211T143000
DTEND;TZID=Europe/Berlin:20240211T180000
DTSTAMP:20260424T114004
CREATED:20240119T073230Z
LAST-MODIFIED:20240119T073230Z
UID:7003-1707661800-1707674400@foeritztal.de
SUMMARY:Kinderfasching Neuhaus-Schierschnitz
DESCRIPTION:Spiel\, Spaß und Überraschungen \nGemeinsam mit der AWO-Kita „Marker Wiesenwichtel“ \nTischreservierung möglich unter 036764/802913
URL:https://foeritztal.de/veranstaltung/kinderfasching-neuhaus-schierschnitz/
LOCATION:Kultursaal Neuhaus-Schierschnitz\, Schierschnitzer Straße 9\, Föritztal\, 96524
ATTACH;FMTTYPE=image/jpeg:https://foeritztal.de/wp-content/uploads/2024/01/kindefasch-kultv-scaled.jpg
END:VEVENT
BEGIN:VEVENT
DTSTART;TZID=Europe/Berlin:20240213T100000
DTEND;TZID=Europe/Berlin:20240213T170000
DTSTAMP:20260424T114004
CREATED:20240119T072800Z
LAST-MODIFIED:20240119T072800Z
UID:6996-1707818400-1707843600@foeritztal.de
SUMMARY:Faschingsessen Lindenberg
DESCRIPTION:Porreebrüh mit Rotwurst und Kassler \nMerchbrüh mit Rindfleisch \nVorbestellung unter 0170/4723085 tgl ab 17 Uhr
URL:https://foeritztal.de/veranstaltung/faschingsessen-lindenberg-2/
LOCATION:Schule Lindenberg
ATTACH;FMTTYPE=image/jpeg:https://foeritztal.de/wp-content/uploads/2024/01/lind-fasch-scaled.jpg
END:VEVENT
BEGIN:VEVENT
DTSTART;TZID=Europe/Berlin:20240213T110000
DTEND;TZID=Europe/Berlin:20240213T170000
DTSTAMP:20260424T114004
CREATED:20240109T163248Z
LAST-MODIFIED:20240109T163248Z
UID:6835-1707822000-1707843600@foeritztal.de
SUMMARY:Faschingsessen Mupperg
DESCRIPTION:Vorbestellung bis spätestens 03.02.2024 unter 036761/293171
URL:https://foeritztal.de/veranstaltung/faschingsessen-mupperg/
LOCATION:VR „Roter Ochse“
ATTACH;FMTTYPE=image/jpeg:https://foeritztal.de/wp-content/uploads/2024/01/feuerw-fasching-scaled.jpg
END:VEVENT
BEGIN:VEVENT
DTSTART;TZID=Europe/Berlin:20240213T140000
DTEND;TZID=Europe/Berlin:20240213T170000
DTSTAMP:20260424T114004
CREATED:20240115T072604Z
LAST-MODIFIED:20240115T072604Z
UID:6857-1707832800-1707843600@foeritztal.de
SUMMARY:Kinderfasching Neuenbau
DESCRIPTION:Spiele und Party mit DJ „Dauerbrenner“
URL:https://foeritztal.de/veranstaltung/kinderfasching-neuenbau/
LOCATION:Kultursaal Neuenbau\, Sattelpaßstraße 22\, Föritztal OT Neuenbau
ATTACH;FMTTYPE=image/jpeg:https://foeritztal.de/wp-content/uploads/2024/01/kifa-nbau-scaled.jpg
END:VEVENT
BEGIN:VEVENT
DTSTART;TZID=Europe/Berlin:20240223T193000
DTEND;TZID=Europe/Berlin:20240223T233000
DTSTAMP:20260424T114004
CREATED:20240109T162638Z
LAST-MODIFIED:20240109T162638Z
UID:6829-1708716600-1708731000@foeritztal.de
SUMMARY:Premiere Theaterverein "Krötenwanderung"
DESCRIPTION:Premierenveranstaltung \nKrimikomödie in 3 Akten \nKartenvorverkauf über die Gemeinde in Judenbach 03675/4238-13
URL:https://foeritztal.de/veranstaltung/premiere-theaterverein-kroetenwanderung/
LOCATION:Kultursaal „100“ Judenbach\, Alte Handelsstraße 100\, Föritztal\, 96524
ATTACH;FMTTYPE=image/jpeg:https://foeritztal.de/wp-content/uploads/2024/01/schwammast-scaled.jpg
END:VEVENT
BEGIN:VEVENT
DTSTART;TZID=Europe/Berlin:20240224T193000
DTEND;TZID=Europe/Berlin:20240224T233000
DTSTAMP:20260424T114004
CREATED:20240109T162846Z
LAST-MODIFIED:20240109T162846Z
UID:6833-1708803000-1708817400@foeritztal.de
SUMMARY:Theaterveranstaltung "Krötenwanderung"
DESCRIPTION:Krimikomödie in 3 Akten
URL:https://foeritztal.de/veranstaltung/theaterveranstaltung-kroetenwanderung/
LOCATION:Kultursaal „100“ Judenbach\, Alte Handelsstraße 100\, Föritztal\, 96524
ATTACH;FMTTYPE=image/jpeg:https://foeritztal.de/wp-content/uploads/2024/01/schwammast-scaled.jpg
END:VEVENT
END:VCALENDAR